BEGIN:VCALENDAR
VERSION:2.0
PRODID:-//Mid-States Dist LLC. - ECPv6.14.1//NONSGML v1.0//EN
CALSCALE:GREGORIAN
METHOD:PUBLISH
X-WR-CALNAME:Mid-States Dist LLC.
X-ORIGINAL-URL:https://msdist.com
X-WR-CALDESC:Events for Mid-States Dist LLC.
REFRESH-INTERVAL;VALUE=DURATION:PT1H
X-Robots-Tag:noindex
X-PUBLISHED-TTL:PT1H
BEGIN:VTIMEZONE
TZID:UTC
BEGIN:STANDARD
TZOFFSETFROM:+0000
TZOFFSETTO:+0000
TZNAME:UTC
DTSTART:20230101T000000
END:STANDARD
END:VTIMEZONE
BEGIN:VEVENT
DTSTART;TZID=UTC:20250818T080000
DTEND;TZID=UTC:20250818T170000
DTSTAMP:20260424T065604
CREATED:20250721T164120Z
LAST-MODIFIED:20250721T164120Z
UID:556-1755504000-1755536400@msdist.com
SUMMARY:test
DESCRIPTION:
URL:https://msdist.com/event/test/
END:VEVENT
BEGIN:VEVENT
DTSTART;VALUE=DATE:20230818
DTEND;VALUE=DATE:20230821
DTSTAMP:20260424T065604
CREATED:20230414T170433Z
LAST-MODIFIED:20230414T170433Z
UID:206-1692316800-1692575999@msdist.com
SUMMARY:The Rendezvous
DESCRIPTION:
URL:https://msdist.com/event/the-rendezvous/
LOCATION:Sheraton Phoenix Downtown\, 340 N 3rd St\, Phoenix\, AZ\, 85004\, United States
ATTACH;FMTTYPE=image/png:https://msdist.com/wp-content/uploads/2023/04/EventsBubbles7.png
END:VEVENT
BEGIN:VEVENT
DTSTART;VALUE=DATE:20230816
DTEND;VALUE=DATE:20230819
DTSTAMP:20260424T065604
CREATED:20230414T170021Z
LAST-MODIFIED:20230414T170516Z
UID:202-1692144000-1692403199@msdist.com
SUMMARY:Base Camp
DESCRIPTION:
URL:https://msdist.com/event/base-camp/
LOCATION:Sheraton Phoenix Downtown\, 340 N 3rd St\, Phoenix\, AZ\, 85004\, United States
ATTACH;FMTTYPE=image/png:https://msdist.com/wp-content/uploads/2023/04/EventsBubbles5.png
END:VEVENT
BEGIN:VEVENT
DTSTART;VALUE=DATE:20230612
DTEND;VALUE=DATE:20230616
DTSTAMP:20260424T065604
CREATED:20230414T165140Z
LAST-MODIFIED:20230414T165221Z
UID:196-1686528000-1686873599@msdist.com
SUMMARY:Hoedown
DESCRIPTION:
URL:https://msdist.com/event/hoedown/
LOCATION:Embassy Suites\, 4705 Clydesdale Pkwy\, Loveland\, CO\, 80538\, United States
ATTACH;FMTTYPE=image/png:https://msdist.com/wp-content/uploads/2023/04/EventsBubbles3.png
END:VEVENT
BEGIN:VEVENT
DTSTART;VALUE=DATE:20230424
DTEND;VALUE=DATE:20230426
DTSTAMP:20260424T065604
CREATED:20230414T161007Z
LAST-MODIFIED:20230414T161007Z
UID:190-1682294400-1682467199@msdist.com
SUMMARY:Western Group Meeting
DESCRIPTION:
URL:https://msdist.com/event/western-group-meeting/
LOCATION:The Grove Hotel\, 245 S Capitol Blvd\, Boise\, ID\, 83702\, United States
ATTACH;FMTTYPE=image/png:https://msdist.com/wp-content/uploads/2023/04/EventsBubbles-8.png
END:VEVENT
END:VCALENDAR